BEGIN:VCALENDAR
VERSION:2.0
PRODID:-//VILA - Blog - ECPv4.5.12.2//NONSGML v1.0//EN
CALSCALE:GREGORIAN
METHOD:PUBLISH
X-WR-CALNAME:VILA - Blog
X-ORIGINAL-URL:https://blog.livrariadavila.com.br
X-WR-CALDESC:Events for VILA - Blog
BEGIN:VEVENT
DTSTART;TZID=America/Sao_Paulo:20230826T103000
DTEND;TZID=America/Sao_Paulo:20230826T133000
DTSTAMP:20260424T014135
CREATED:20230705T144004Z
LAST-MODIFIED:20230705T144004Z
UID:118187-1693045800-1693056600@blog.livrariadavila.com.br
SUMMARY:BARRETO - LIMA BARRETO - ANDRÉ AUGUSTUS DIASZ – ED. MOSTARDA
DESCRIPTION:\n\n\n\n\n\nO livro conta a história de Lima Barreto\, escritor brasileiro que dedicou sua obra à militância negra. Um dos responsáveis pela modernização da literatura brasileira\, tanto do ponto de vista estético quanto social\, Lima Barreto foi um visionário que colocou o negro como protagonista na literatura nacional.\n\n\n\n\n
URL:https://blog.livrariadavila.com.br/event/barreto-lima-barreto-andre-augustus-diasz-ed-mostarda/
LOCATION:Rua Fradique Coutinho\, 915 - Pinheiros\, São Paulo\, São Paulo\, 05416-011\, Brasil
GEO:-23.5592934;-46.6892019
X-APPLE-STRUCTURED-LOCATION;VALUE=URI;X-ADDRESS=Rua Fradique Coutinho 915 - Pinheiros São Paulo São Paulo 05416-011 Brasil;X-APPLE-RADIUS=500;X-TITLE=Rua Fradique Coutinho\, 915 - Pinheiros:geo:-46.6892019,-23.5592934
END:VEVENT
END:VCALENDAR