BEGIN:VCALENDAR
VERSION:2.0
PRODID:-//VILA - Blog - ECPv4.5.12.2//NONSGML v1.0//EN
CALSCALE:GREGORIAN
METHOD:PUBLISH
X-WR-CALNAME:VILA - Blog
X-ORIGINAL-URL:https://blog.livrariadavila.com.br
X-WR-CALDESC:Events for VILA - Blog
BEGIN:VEVENT
DTSTART;TZID=America/Sao_Paulo:20191105T190000
DTEND;TZID=America/Sao_Paulo:20191105T213000
DTSTAMP:20260424T030928
CREATED:20191030T150842Z
LAST-MODIFIED:20191104T193057Z
UID:99919-1572980400-1572989400@blog.livrariadavila.com.br
SUMMARY:Beethoven - As muitas faces de um gênio
DESCRIPTION: \nBeethoven está completando 250 anos mais vivo do que nunca. Suas composições\, executadas por solistas\, conjuntos e orquestras do mundo todo\, emocionam multidões. Beethoven: as muitas faces de um gênio traz dois livros em um. Beethoven e sua música do maestro João Maurício Galindo apresenta um olhar contemporâneo sobre o compositor\, fala de seu papel no desenvolvimento da música\, na utilização dos instrumentos\, no diálogo com a plateia e ainda nos fornece um roteiro detalhado sobre o que e como ouvir para usufruir sua obra. Vida de Beethoven de Romain Rolland\, grande romancista Prêmio Nobel de Literatura\, é um clássico (em nova tradução do francês) que mostra a trajetória do compositor e as paixões que foi capaz de despertar. Ao final\, um texto do próprio Beethoven\, o famoso Testamento de Heiligenstadt\, escrito quando tomou a decisão de romper com os cânones musicais e criar sua grande obra. \n  \nDe João Maurício Galindo e Romain Rolland \nEd. Contexto \n
URL:https://blog.livrariadavila.com.br/event/beethoven-as-muitas-faces-de-um-genio/
LOCATION:Rua Fradique Coutinho\, 915 - Pinheiros\, São Paulo\, São Paulo\, 05416-011\, Brasil
GEO:-23.5592934;-46.6892019
X-APPLE-STRUCTURED-LOCATION;VALUE=URI;X-ADDRESS=Rua Fradique Coutinho 915 - Pinheiros São Paulo São Paulo 05416-011 Brasil;X-APPLE-RADIUS=500;X-TITLE=Rua Fradique Coutinho\, 915 - Pinheiros:geo:-46.6892019,-23.5592934
CATEGORIES:LANÇAMENTOS,SESSÕES DE AUTÓGRAFOS
END:VEVENT
END:VCALENDAR