BEGIN:VCALENDAR
VERSION:2.0
PRODID:-//VILA - Blog - ECPv4.5.12.2//NONSGML v1.0//EN
CALSCALE:GREGORIAN
METHOD:PUBLISH
X-WR-CALNAME:VILA - Blog
X-ORIGINAL-URL:https://blog.livrariadavila.com.br
X-WR-CALDESC:Events for VILA - Blog
BEGIN:VEVENT
DTSTART;TZID=America/Sao_Paulo:20240803T160000
DTEND;TZID=America/Sao_Paulo:20240803T190000
DTSTAMP:20260422T182446
CREATED:20240719T123103Z
LAST-MODIFIED:20240719T123103Z
UID:123330-1722700800-1722711600@blog.livrariadavila.com.br
SUMMARY:BENTO VENTO TEMPO - STÊNIO GARDEL E NELSON CRUZ - ED. COMPANHIA DAS LETRINHAS
DESCRIPTION:\n\n\n\n\n\nUma narrativa sensível e belamente ilustrada sobre um menino\, seu avô e a grande aventura que vivem juntos. Bento tem visto seu Vô Cacá mudar com o passar do tempo. Antes trabalhador e agitado\, hoje ele é um senhor calado\, cada vez mais esquecido dos outros e de si.Um dia\, ele decide levar o avô à feira da cidade na bicicleta amarela que eles têm em casa\, e assim dá início a um percurso fantástico e encantado — onde encontrarão sonhos\, coragem e a si mesmos.Esta narrativa em cordel escrita pelo premiado Stênio Gardel é um retrato delicado sobre como o amor é capaz de transformar aqueles que amamos\, e se torna ainda mais potente com a narrativa visual feita por Nelson Cruz. Indicado para leitores a partir de 9 anos.\n\n\n\n\n
URL:https://blog.livrariadavila.com.br/event/bento-vento-tempo-stenio-gardel-e-nelson-cruz-ed-companhia-das-letrinhas/
LOCATION:Av.Luiz Eduardo de Toledo Prado\, 900\, Ribeirão Preto\, São Paulo\, 14027-250\, Brasil
END:VEVENT
END:VCALENDAR