BEGIN:VCALENDAR
VERSION:2.0
PRODID:-//VILA - Blog - ECPv4.5.12.2//NONSGML v1.0//EN
CALSCALE:GREGORIAN
METHOD:PUBLISH
X-WR-CALNAME:VILA - Blog
X-ORIGINAL-URL:https://blog.livrariadavila.com.br
X-WR-CALDESC:Events for VILA - Blog
BEGIN:VEVENT
DTSTART;TZID=America/Sao_Paulo:20190326T183000
DTEND;TZID=America/Sao_Paulo:20190326T213000
DTSTAMP:20260419T184117
CREATED:20190322T190038Z
LAST-MODIFIED:20190322T190038Z
UID:95712-1553625000-1553635800@blog.livrariadavila.com.br
SUMMARY:BEPS no Brasil - Negócios Híbridos\, Normas CFC e Competitividade Internacional
DESCRIPTION: De Bruna Camargo Ferrari \nEd. Quartier Latin \n
URL:https://blog.livrariadavila.com.br/event/beps-no-brasil-negocios-hibridos-normas-cfc-e-competitividade-internacional/
CATEGORIES:LANÇAMENTOS,SESSÕES DE AUTÓGRAFOS
END:VEVENT
END:VCALENDAR