BEGIN:VCALENDAR
VERSION:2.0
PRODID:-//VILA - Blog - ECPv4.5.12.2//NONSGML v1.0//EN
CALSCALE:GREGORIAN
METHOD:PUBLISH
X-WR-CALNAME:VILA - Blog
X-ORIGINAL-URL:https://blog.livrariadavila.com.br
X-WR-CALDESC:Events for VILA - Blog
BEGIN:VEVENT
DTSTART;TZID=America/Sao_Paulo:20241202T180000
DTEND;TZID=America/Sao_Paulo:20241202T210000
DTSTAMP:20260423T164645
CREATED:20241127T140718Z
LAST-MODIFIED:20241127T140718Z
UID:125368-1733162400-1733173200@blog.livrariadavila.com.br
SUMMARY:BÉSAME MUCHO - CARLOS GONZÁLEZ – ED. TIMO
DESCRIPTION: \nDescubra o universo do renomado pediatra espanhol Carlos González através de um kit produzido especialmente para celebrar a presença do autor no brasil em 2024. Conhecido por suas abordagens empáticas e científicas sobre a criação de filhos\, González inspira pais e educadores a refletirem sobre vínculos\, cuidado e afeto. EstAS CARTAS ofereceM uma primeira aproximação ao seu pensamento\, em mensagens AMOROSAS e éticas. \n
URL:https://blog.livrariadavila.com.br/event/besame-mucho-carlos-gonzalez-ed-timo/
LOCATION:Avenida Paulista\, 1230\, São Paulo\, São Paulo\, 01310-100\, Brasil
END:VEVENT
END:VCALENDAR