BEGIN:VCALENDAR
VERSION:2.0
PRODID:-//VILA - Blog - ECPv4.5.12.2//NONSGML v1.0//EN
CALSCALE:GREGORIAN
METHOD:PUBLISH
X-WR-CALNAME:VILA - Blog
X-ORIGINAL-URL:https://blog.livrariadavila.com.br
X-WR-CALDESC:Events for VILA - Blog
BEGIN:VEVENT
DTSTART;TZID=America/Sao_Paulo:20181025T183000
DTEND;TZID=America/Sao_Paulo:20181025T213000
DTSTAMP:20260424T023004
CREATED:20180913T171317Z
LAST-MODIFIED:20180913T171317Z
UID:22417-1540492200-1540503000@blog.livrariadavila.com.br
SUMMARY:Bing e o pequeno alienígena alienado
DESCRIPTION:Este livro apresenta um olhar sobre a alienação parental e sobre a mágica transformação que pode acontecer quando o bem-estar e os direitos da criança são colocados em primeiro lugar. Na história\, o pequeno alienígena alienado chega à escola de Bing\, que descobre que\, assim como os seus pais\, os de Ali também são separados. A amizade foi instantânea! Porém\, havia uma diferença. Enquanto Bing viajava livremente entre os planetas para conviver com o seu pai e a sua mãe\, Ali não queria ou não podia falar com o seu próprio pai. Entre nessa história e saiba que é possível resolver essas questões procurando ajuda e conselhos certos. \nDe Ronit Mazer Sauerman e Ruth Berenice Lass  \nEd. Sinopsys \n
URL:https://blog.livrariadavila.com.br/event/bing-e-o-pequeno-alienigena-alienado/
LOCATION:Avenida do Batel\, nº 1868 – Loja 314 piso L3\, Curitiba\, Paraná\, 80420-090\, Brasil
GEO:-25.443012;-49.2899507
X-APPLE-STRUCTURED-LOCATION;VALUE=URI;X-ADDRESS=Avenida do Batel nº 1868 – Loja 314 piso L3 Curitiba Paraná 80420-090 Brasil;X-APPLE-RADIUS=500;X-TITLE=Avenida do Batel\, nº 1868 – Loja 314 piso L3:geo:-49.2899507,-25.443012
CATEGORIES:LANÇAMENTOS,SESSÕES DE AUTÓGRAFOS
END:VEVENT
END:VCALENDAR