BEGIN:VCALENDAR
VERSION:2.0
PRODID:-//VILA - Blog - ECPv4.5.12.2//NONSGML v1.0//EN
CALSCALE:GREGORIAN
METHOD:PUBLISH
X-WR-CALNAME:VILA - Blog
X-ORIGINAL-URL:https://blog.livrariadavila.com.br
X-WR-CALDESC:Events for VILA - Blog
BEGIN:VEVENT
DTSTART;TZID=America/Sao_Paulo:20181122T173000
DTEND;TZID=America/Sao_Paulo:20181122T213000
DTSTAMP:20260420T215042
CREATED:20181106T172225Z
LAST-MODIFIED:20181106T172225Z
UID:23364-1542907800-1542922200@blog.livrariadavila.com.br
SUMMARY:Biografias Colaborativas - coleção de 5 biografias sobre mulheres empreendedoras das periferias de São Paulo
DESCRIPTION:Renata: Liberdade para recomeçar\, de Fernanda Oliveira \nRúbia: Na batida da periferia\, de Andressa Tabaczinski \nVanessa: A arte da resiliência\, de Renato Lemos \nTeomila: Guerreira da bola de fogo\, de Fenanda Oliveira \nElizandra: Muitas vozes numa só\, de Flávia Iriarte e Rodrigo Barreto \nAs obras integram o projeto Biografias Colaborativas\, que percorreu as periferias de São Paulo em busca de cinco histórias inspiradoras protagonizadas por mulheres empreendedoras. \nEd. Olhares \n  \n  \n
URL:https://blog.livrariadavila.com.br/event/biografias-colaborativas-colecao-de-5-biografias-sobre-mulheres-empreendedoras-das-periferias-de-sao-paulo/
LOCATION:Av. Juscelino Kubitschek\, 2041 - Itaim Bibi\, São Paulo\, São Paulo\, 04543-011\, Brasil
GEO:-23.5914219;-46.6898224
X-APPLE-STRUCTURED-LOCATION;VALUE=URI;X-ADDRESS=Av. Juscelino Kubitschek 2041 - Itaim Bibi São Paulo São Paulo 04543-011 Brasil;X-APPLE-RADIUS=500;X-TITLE=Av. Juscelino Kubitschek\, 2041 - Itaim Bibi:geo:-46.6898224,-23.5914219
CATEGORIES:LANÇAMENTOS,SESSÕES DE AUTÓGRAFOS
END:VEVENT
END:VCALENDAR