BEGIN:VCALENDAR
VERSION:2.0
PRODID:-//VILA - Blog - ECPv4.5.12.2//NONSGML v1.0//EN
CALSCALE:GREGORIAN
METHOD:PUBLISH
X-WR-CALNAME:VILA - Blog
X-ORIGINAL-URL:https://blog.livrariadavila.com.br
X-WR-CALDESC:Events for VILA - Blog
BEGIN:VEVENT
DTSTART;TZID=America/Sao_Paulo:20191216T183000
DTEND;TZID=America/Sao_Paulo:20191216T213000
DTSTAMP:20260421T054554
CREATED:20191206T170924Z
LAST-MODIFIED:20191216T140634Z
UID:107865-1576521000-1576531800@blog.livrariadavila.com.br
SUMMARY:Boas- vindas bebê 1 e Boas-vindas bebê 2
DESCRIPTION: \nDe Dra. Ana Escobar \nIndependente \n
URL:https://blog.livrariadavila.com.br/event/boas-vindas-bebe-1-e-boas-vindas-bebe-2/
LOCATION:Rua Fradique Coutinho\, 915 - Pinheiros\, São Paulo\, São Paulo\, 05416-011\, Brasil
GEO:-23.5592934;-46.6892019
X-APPLE-STRUCTURED-LOCATION;VALUE=URI;X-ADDRESS=Rua Fradique Coutinho 915 - Pinheiros São Paulo São Paulo 05416-011 Brasil;X-APPLE-RADIUS=500;X-TITLE=Rua Fradique Coutinho\, 915 - Pinheiros:geo:-46.6892019,-23.5592934
CATEGORIES:LANÇAMENTOS,SESSÕES DE AUTÓGRAFOS
END:VEVENT
END:VCALENDAR