BEGIN:VCALENDAR
VERSION:2.0
PRODID:-//VILA - Blog - ECPv4.5.12.2//NONSGML v1.0//EN
CALSCALE:GREGORIAN
METHOD:PUBLISH
X-WR-CALNAME:VILA - Blog
X-ORIGINAL-URL:https://blog.livrariadavila.com.br
X-WR-CALDESC:Events for VILA - Blog
BEGIN:VEVENT
DTSTART;TZID=America/Sao_Paulo:20240920T180000
DTEND;TZID=America/Sao_Paulo:20240920T210000
DTSTAMP:20260420T102130
CREATED:20240723T143651Z
LAST-MODIFIED:20240724T154214Z
UID:123371-1726855200-1726866000@blog.livrariadavila.com.br
SUMMARY:BRANDING NA ERA DAS REDES SOCIAIS - ANTÔNIA MARTINELLI LUPERI – ED. LEADER
DESCRIPTION: \n  \nEstudante de 17 anos\, do 3º ano do Ensino Médio\, é filha de uma publicitária\, apaixonada pelo universo do marketing e\, como uma jovem da Geração Z\, usuária assídua das redes sociais. Em 2023\, foi aluna de Summer Program em Yale University\, nos EUA e\, este ano\, prestes a ingressar no programa de Marketing\, Publicidade e Relações Públicas de Columbia University\, se inspirou a escrever este livro\, em que analisa o impacto das redes sociais nas estratégias de branding das marcas. Deixe o celular de lado e navegue nessa leitura conectada! \n
URL:https://blog.livrariadavila.com.br/event/branding-na-era-das-redes-sociais-antonia-martinelli-luperi-ed-leader/
LOCATION:Alameda Lorena\, 1501\, São Paulo\, São Paulo\, 01424-005\, Brasil
END:VEVENT
END:VCALENDAR