BEGIN:VCALENDAR
VERSION:2.0
PRODID:-//VILA - Blog - ECPv4.5.12.2//NONSGML v1.0//EN
CALSCALE:GREGORIAN
METHOD:PUBLISH
X-WR-CALNAME:VILA - Blog
X-ORIGINAL-URL:https://blog.livrariadavila.com.br
X-WR-CALDESC:Events for VILA - Blog
BEGIN:VEVENT
DTSTART;TZID=America/Sao_Paulo:20191207T160000
DTEND;TZID=America/Sao_Paulo:20191207T190000
DTSTAMP:20260423T113349
CREATED:20191202T183343Z
LAST-MODIFIED:20191202T183343Z
UID:104460-1575734400-1575745200@blog.livrariadavila.com.br
SUMMARY:Brincadeiras para tirar o bumbum da carteira
DESCRIPTION: \nNeste livro de Ana Tatit e Patricia Penido\, são apresentadas mais de 150 brincadeiras do Brasil e de outros países\, pois o ato de brincar não tem língua. O propósito da obra é mostrar que brincar é uma atividade mais que fundamental\, é uma condição inata do ser\, presente em todas as culturas e em todos os tempos. Brincando\, a criança se prepara para a vida\, assimila e se integra à sua cultura\, cria representações do cotidiano para compreendê-lo melhor\, elabora situações similares às vividas para dar novos contornos aos sentimentos\, desenvolve a linguagem oral\, interage e convive como um ser social. Uma obra abrangente que vai aumentar o repertório de professores\, educadores\, monitores\, alunos e brincantes em geral\, incentivando a ampliar o campo lúdico\, sobretudo no ambiente escolar. Ilustrações\, QR codes e links com gravações de canções e parlendas complementam algumas brincadeiras. \n  \nDe Ana Tatit e Patricia Penido \nEd. Melhoramentos \n  \nLançamento e atividade infantil. \n
URL:https://blog.livrariadavila.com.br/event/brincadeiras-para-tirar-o-bumbum-da-carteira/
LOCATION:Rua Fradique Coutinho\, 915 - Pinheiros\, São Paulo\, São Paulo\, 05416-011\, Brasil
GEO:-23.5592934;-46.6892019
X-APPLE-STRUCTURED-LOCATION;VALUE=URI;X-ADDRESS=Rua Fradique Coutinho 915 - Pinheiros São Paulo São Paulo 05416-011 Brasil;X-APPLE-RADIUS=500;X-TITLE=Rua Fradique Coutinho\, 915 - Pinheiros:geo:-46.6892019,-23.5592934
CATEGORIES:ATIVIDADES INFANTIS,LANÇAMENTOS,SESSÕES DE AUTÓGRAFOS
END:VEVENT
END:VCALENDAR