BEGIN:VCALENDAR
VERSION:2.0
PRODID:-//VILA - Blog - ECPv4.5.12.2//NONSGML v1.0//EN
CALSCALE:GREGORIAN
METHOD:PUBLISH
X-WR-CALNAME:VILA - Blog
X-ORIGINAL-URL:https://blog.livrariadavila.com.br
X-WR-CALDESC:Events for VILA - Blog
BEGIN:VEVENT
DTSTART;TZID=America/Sao_Paulo:20221123T170000
DTEND;TZID=America/Sao_Paulo:20221123T193000
DTSTAMP:20260423T231842
CREATED:20221101T122507Z
LAST-MODIFIED:20221101T122507Z
UID:115863-1669222800-1669231800@blog.livrariadavila.com.br
SUMMARY:BURNOUT NA PRÁTICA CLÍNICA - ANA PAULA LOPES CARVALHO E LETÍCIA MARIA AKEL MAMERI-TRÉS - ED. MANOLE
DESCRIPTION: \n  \nA obra se inicia esclarecendo\, didaticamente\, conceitos científicos em relação ao tema\, e já podemos\, após a leitura\, tomarmos posse da discussão envolvendo o tema central: o burnout é doença ou uma síndrome? Seguindo o tema\, aprofunda-se em relação ao adoecimento mental e sua relação com o trabalho. \nA seguir\, o livro aborda\, de forma sistemática\, temas como aspectos jurídicos do diagnóstico de burnout\, a questão de adição ao trabalho e a depressão\, tema que ronda nossos consultórios diariamente. Foca ainda em temas como transtornos bipolares\, ansiedade\, suicídio\, transtornos de déficit de atenção e hiperatividade. \nPassa então a enfocar o trabalho e o desenvolvimento do burnout\, finalizando a obra em considerações de abordagem terapêuticas dos pacientes/trabalhadores. O capítulo sobre saúde mental no trabalho durante e após a pandemia de Covid-19 nos traz uma abordagem muito interessante em relação às queixas relacionadas a esse acontecimento\, o ambiente profissional durante a pandemia\, a questão da perda de empregos e suas repercussões na\nsaúde mental da população de trabalhadores brasileiros. \n
URL:https://blog.livrariadavila.com.br/event/burnout-na-pratica-clinica-ana-paula-lopes-carvalho-e-leticia-maria-akel-mameri-tres-ed-manole/
LOCATION:Av. Moema\, 493\, São Paulo\, São Paulo\, 04077-022\, Brasil
GEO:-23.6060908;-46.6565273
X-APPLE-STRUCTURED-LOCATION;VALUE=URI;X-ADDRESS=Av. Moema 493 São Paulo São Paulo 04077-022 Brasil;X-APPLE-RADIUS=500;X-TITLE=Av. Moema\, 493:geo:-46.6565273,-23.6060908
END:VEVENT
END:VCALENDAR