BEGIN:VCALENDAR
VERSION:2.0
PRODID:-//VILA - Blog - ECPv4.5.12.2//NONSGML v1.0//EN
CALSCALE:GREGORIAN
METHOD:PUBLISH
X-WR-CALNAME:VILA - Blog
X-ORIGINAL-URL:https://blog.livrariadavila.com.br
X-WR-CALDESC:Events for VILA - Blog
BEGIN:VEVENT
DTSTART;TZID=America/Sao_Paulo:20181004T183000
DTEND;TZID=America/Sao_Paulo:20181004T213000
DTSTAMP:20260422T105912
CREATED:20181001T185529Z
LAST-MODIFIED:20181001T185604Z
UID:22697-1538677800-1538688600@blog.livrariadavila.com.br
SUMMARY:Cadeia de Custódia de Prova
DESCRIPTION:De Marco Aurélio Vicente Vieira \nIndependente \n
URL:https://blog.livrariadavila.com.br/event/cadeia-de-custodia-de-prova/
CATEGORIES:LANÇAMENTOS,SESSÕES DE AUTÓGRAFOS
END:VEVENT
END:VCALENDAR