BEGIN:VCALENDAR
VERSION:2.0
PRODID:-//VILA - Blog - ECPv4.5.12.2//NONSGML v1.0//EN
CALSCALE:GREGORIAN
METHOD:PUBLISH
X-WR-CALNAME:VILA - Blog
X-ORIGINAL-URL:https://blog.livrariadavila.com.br
X-WR-CALDESC:Events for VILA - Blog
BEGIN:VEVENT
DTSTART;TZID=America/Sao_Paulo:20190413T110000
DTEND;TZID=America/Sao_Paulo:20190413T130000
DTSTAMP:20260421T140956
CREATED:20190327T182036Z
LAST-MODIFIED:20190327T182036Z
UID:95859-1555153200-1555160400@blog.livrariadavila.com.br
SUMMARY:Café Lacaniano - Inconsciente e Responsabilidade
DESCRIPTION:O conteúdo manifesto da política é a democracia; o latente\, os interesses partidários. Homens públicos exibem semblantes ilibados\, nem sempre condizentes em privado. O bem comum\, na boca de todos nas promessas de campanha\, é um bom álibi para ganhar uma eleição\, mesmo que desmentido depois por fatos & atitudes opostas. Assim\, o eleitorado pode achar que escolhe Batman quando\, na realidade\, é o Coringa quem ganha o cargo\, contrariando os ideais invocados. O mal\, a pesar de injustificável\, não cessa de não se inscrever\, levando ao pior. Para pensar estes temas\, Lacan com Kant concatenam as ambiguidades dos jogos de poder. \nO debate contará com a presença de Ricardo Goldenberg\, psicanalista\, autor de Desler Lacan (2018)\, entre outros. \nEvento gratuito \n
URL:https://blog.livrariadavila.com.br/event/cafe-lacaniano-inconsciente-e-responsabilidade/
LOCATION:Rua Fradique Coutinho\, 915 - Pinheiros\, São Paulo\, São Paulo\, 05416-011\, Brasil
GEO:-23.5592934;-46.6892019
X-APPLE-STRUCTURED-LOCATION;VALUE=URI;X-ADDRESS=Rua Fradique Coutinho 915 - Pinheiros São Paulo São Paulo 05416-011 Brasil;X-APPLE-RADIUS=500;X-TITLE=Rua Fradique Coutinho\, 915 - Pinheiros:geo:-46.6892019,-23.5592934
CATEGORIES:PALESTRAS
END:VEVENT
END:VCALENDAR