BEGIN:VCALENDAR
VERSION:2.0
PRODID:-//VILA - Blog - ECPv4.5.12.2//NONSGML v1.0//EN
CALSCALE:GREGORIAN
METHOD:PUBLISH
X-WR-CALNAME:VILA - Blog
X-ORIGINAL-URL:https://blog.livrariadavila.com.br
X-WR-CALDESC:Events for VILA - Blog
BEGIN:VEVENT
DTSTART;TZID=America/Sao_Paulo:20181027T110000
DTEND;TZID=America/Sao_Paulo:20181027T133000
DTSTAMP:20260420T152403
CREATED:20181015T145518Z
LAST-MODIFIED:20181015T145518Z
UID:22954-1540638000-1540647000@blog.livrariadavila.com.br
SUMMARY:Café Lacaniano - O narcisismo na era da reprodutibilidade técnica
DESCRIPTION:Nas Sagradas Escrituras\, impressas desde Gutemberg\, a imagem & a semelhança da espécie foi registrada muito antes da invenção da fotografia. Desde sempre & para sempre\, os espelhos têm sido os eternos reprodutores desumanos da forma humana\, da sua beleza & da sua feiura\, como dissera Umberto Eco\, ecoando Lacan. Por sua vez\, as técnicas multiplicadoras dos signos culturais potenciam ao infinito as miragens da indústria cultural. A Mona Lisa\, única merecedora de fama exclusiva\, seria igual à Gioconda\, onipresente em todos os tipos de merchandising do Louvre? Qualquer pinico poderia ser atribuído a Duchamp\, só por se tratar de um mictório? Urinol tem aura? \nQual o poder\, a força da reprodução? As ideias\, preto no branco\, redigidas para serem editadas; as artes visuais\, prontas para o prazer do olhar. Pois até Freud foi clicado\, filmado\, esculpido\, enquanto Lacan gostava de fotografar & aparecer na TV. Se vivos hoje\, tirariam selfies? Quais as consequências subjetivas da reprodutibilidade mecânica da nossa autoimagem? Foi Benjamin\, profético antes da internet\, quem augurou auroras midiáticas que colocariam em pauta a crise de renovação da humanidade… \nPara abordar estas questões contaremos com a presença da MÁRCIO SELIGMANN-SILVA\, professor titular de Teoria Literária (IEL – UNICAMP)\, dialogando com OSCAR CESAROTTO. \n
URL:https://blog.livrariadavila.com.br/event/cafe-lacaniano-o-narcisismo-na-era-da-reprodutibilidade-tecnica/
LOCATION:Rua Fradique Coutinho\, 915 - Pinheiros\, São Paulo\, São Paulo\, 05416-011\, Brasil
GEO:-23.5592934;-46.6892019
X-APPLE-STRUCTURED-LOCATION;VALUE=URI;X-ADDRESS=Rua Fradique Coutinho 915 - Pinheiros São Paulo São Paulo 05416-011 Brasil;X-APPLE-RADIUS=500;X-TITLE=Rua Fradique Coutinho\, 915 - Pinheiros:geo:-46.6892019,-23.5592934
CATEGORIES:PALESTRAS
END:VEVENT
END:VCALENDAR