BEGIN:VCALENDAR
VERSION:2.0
PRODID:-//VILA - Blog - ECPv4.5.12.2//NONSGML v1.0//EN
CALSCALE:GREGORIAN
METHOD:PUBLISH
X-WR-CALNAME:VILA - Blog
X-ORIGINAL-URL:https://blog.livrariadavila.com.br
X-WR-CALDESC:Events for VILA - Blog
BEGIN:VEVENT
DTSTART;TZID=America/Sao_Paulo:20181110T110000
DTEND;TZID=America/Sao_Paulo:20181110T130000
DTSTAMP:20260421T085014
CREATED:20181106T160102Z
LAST-MODIFIED:20181106T160102Z
UID:23306-1541847600-1541854800@blog.livrariadavila.com.br
SUMMARY:Café Lacaniano - verdade\, ética e educação
DESCRIPTION: \n  \nEnquanto Hannah Arendt se recusava o título de filósofa\, Lacan afirmava a psicanálise como a única filosofia que se sustenta. Ambos se dedicaram a pensar questões cruciais relativas à ética & à verdade. Falar sobre esses conceitos nos dias atuais é um imperativo da ordem do que ela chamava de “amor ao mundo”\, condição para a educação & para barrar a destruição totalitária do espaço comum\, pois o que faz a existência & a sobrevivência do mundo\, enquanto artifício humano\, é que se fale sobre ele. \nPara a psicanálise a ideia de mundo passa pelos conceitos de realidade psíquica\, interioridade & exterioridade; também passa pelo se falar dele. Entanto laço social\, o discurso faz o mundo; por outro lado\, a ideia de verdade\, associada à de desejo\, aponta para uma ética: responsabilizar-se pelo mundo\, mas também\, no tocante ao desejo\, dar testemunho de pertencimento ao campo de Outro. Esta é a dimensão realista da educação como missão freudianamente impossível… \n  \nO debate contará com a presença de MARCIA REGINA FOGAÇA & CRISLEI DE OLIVEIRA CUSTÓDIO\, doutoras em Educação (FE-USP). \n  \nEvento gratuito (auditório FRADIQUE) \n
URL:https://blog.livrariadavila.com.br/event/cafe-lacaniano-verdade-etica-e-educacao/
LOCATION:Rua Fradique Coutinho\, 915 - Pinheiros\, São Paulo\, São Paulo\, 05416-011\, Brasil
GEO:-23.5592934;-46.6892019
X-APPLE-STRUCTURED-LOCATION;VALUE=URI;X-ADDRESS=Rua Fradique Coutinho 915 - Pinheiros São Paulo São Paulo 05416-011 Brasil;X-APPLE-RADIUS=500;X-TITLE=Rua Fradique Coutinho\, 915 - Pinheiros:geo:-46.6892019,-23.5592934
CATEGORIES:BATE-PAPO,PALESTRAS
END:VEVENT
END:VCALENDAR