BEGIN:VCALENDAR
VERSION:2.0
PRODID:-//VILA - Blog - ECPv4.5.12.2//NONSGML v1.0//EN
CALSCALE:GREGORIAN
METHOD:PUBLISH
X-WR-CALNAME:VILA - Blog
X-ORIGINAL-URL:https://blog.livrariadavila.com.br
X-WR-CALDESC:Events for VILA - Blog
BEGIN:VEVENT
DTSTART;TZID=America/Sao_Paulo:20181113T183000
DTEND;TZID=America/Sao_Paulo:20181113T213000
DTSTAMP:20260420T134609
CREATED:20181106T182035Z
LAST-MODIFIED:20181106T182035Z
UID:23394-1542133800-1542144600@blog.livrariadavila.com.br
SUMMARY:Cardiologia - Condutas Terapêuticas
DESCRIPTION:Cardiologia – Condutas Terapêuticas é livro que tem sua origem no corpo clínico do conceituado Instituto Dante Pazzanese de Cardiologia do Estado de São Paulo. É de didática ágil\, prática e pontual em suas informações. Seu objetivo primordial é o tratamento das doenças cardiovasculares. Por suas características\, aqui assinaladas\, privilegia os programas de Residência Médica em Cardiologia. \n  \nDe Ari Timerman\, Elizabete Silva dos Santos e Amanda Guerra de Moraes Rego \nEd. Atheneu \n
URL:https://blog.livrariadavila.com.br/event/cardiologia-condutas-terapeuticas/
LOCATION:Rua Pamplona\, 1704\, São Paulo\, São Paulo\, 01405-000\, Brasil
GEO:-23.5702482;-46.6612794
X-APPLE-STRUCTURED-LOCATION;VALUE=URI;X-ADDRESS=Rua Pamplona 1704 São Paulo São Paulo 01405-000 Brasil;X-APPLE-RADIUS=500;X-TITLE=Rua Pamplona\, 1704:geo:-46.6612794,-23.5702482
CATEGORIES:LANÇAMENTOS,SESSÕES DE AUTÓGRAFOS
END:VEVENT
END:VCALENDAR