BEGIN:VCALENDAR
VERSION:2.0
PRODID:-//VILA - Blog - ECPv4.5.12.2//NONSGML v1.0//EN
CALSCALE:GREGORIAN
METHOD:PUBLISH
X-WR-CALNAME:VILA - Blog
X-ORIGINAL-URL:https://blog.livrariadavila.com.br
X-WR-CALDESC:Events for VILA - Blog
BEGIN:VEVENT
DTSTART;TZID=America/Sao_Paulo:20190130T183000
DTEND;TZID=America/Sao_Paulo:20190130T213000
DTSTAMP:20260420T171457
CREATED:20181218T163151Z
LAST-MODIFIED:20181218T163151Z
UID:53625-1548873000-1548883800@blog.livrariadavila.com.br
SUMMARY:Cartas aos Cinéfilos - Crônicas de Cinema
DESCRIPTION: Aliando duas paixões\, a literatura e o cinema\, decidi escrever esta série de crônicas. Não se tratam de resenhas\, pois estas se encontram aos montes por aí. Com uma forma inovadora\, busquei pinçar de alguns filmes lições universais que possam ser utilizadas em minha vida e na do leitor\, independentemente de ter assistido ao filme ou não. Partindo desta premissa\, quero realçar sentimentos\, pensamentos e ações que transformaram a vida dos personagens e têm a possibilidade de transformar a vida de qualquer pessoa\, não importando quem seja ou qual sua realidade.\nEspero que quem leia possa ter um momento de reflexão\, de felicidade e quem sabe até se anime a assistir (ou a assistir com novos olhos) os filmes propostos. \nDe Carolina Cavalcanti Pedrosa \nEd. Chiado Books \n
URL:https://blog.livrariadavila.com.br/event/cartas-aos-cinefilos-cronicas-de-cinema/
LOCATION:Avenida do Batel\, nº 1868 – Loja 314 piso L3\, Curitiba\, Paraná\, 80420-090\, Brasil
GEO:-25.443012;-49.2899507
X-APPLE-STRUCTURED-LOCATION;VALUE=URI;X-ADDRESS=Avenida do Batel nº 1868 – Loja 314 piso L3 Curitiba Paraná 80420-090 Brasil;X-APPLE-RADIUS=500;X-TITLE=Avenida do Batel\, nº 1868 – Loja 314 piso L3:geo:-49.2899507,-25.443012
CATEGORIES:LANÇAMENTOS,SESSÕES DE AUTÓGRAFOS
END:VEVENT
END:VCALENDAR