BEGIN:VCALENDAR
VERSION:2.0
PRODID:-//VILA - Blog - ECPv4.5.12.2//NONSGML v1.0//EN
CALSCALE:GREGORIAN
METHOD:PUBLISH
X-WR-CALNAME:VILA - Blog
X-ORIGINAL-URL:https://blog.livrariadavila.com.br
X-WR-CALDESC:Events for VILA - Blog
BEGIN:VEVENT
DTSTART;TZID=America/Sao_Paulo:20181109T190000
DTEND;TZID=America/Sao_Paulo:20181109T213000
DTSTAMP:20260421T144511
CREATED:20181106T164601Z
LAST-MODIFIED:20181106T164601Z
UID:23338-1541790000-1541799000@blog.livrariadavila.com.br
SUMMARY:Churrasqueadas
DESCRIPTION: \n\n\n\nAlém de ter as melhores receitas do canal Churrasqueadas\, este livro é prático e um verdadeiro auxiliar para todos os churrasqueiros\, desde os iniciantes até os mais experientes. Aqui\, José Almiro de Morais vai mostrar a você tudo o que precisa para fazer um excelente churrasco: os melhores cortes\, as receitas mais saborosas e as dicas mais proveitosas para fazer aquilo que você gosta e impressionar!\n\n\n\n\nDe José Almiro de Morais\n\nEd. Alto Astral\n
URL:https://blog.livrariadavila.com.br/event/churrasqueadas/
LOCATION:Av. Higienópolis\, 618 – Higienópolis\, São Paulo\, SP\, 01238-000\, Brasil
GEO:-23.542049;-46.6577148
X-APPLE-STRUCTURED-LOCATION;VALUE=URI;X-ADDRESS=Av. Higienópolis 618 – Higienópolis São Paulo SP 01238-000 Brasil;X-APPLE-RADIUS=500;X-TITLE=Av. Higienópolis\, 618 – Higienópolis:geo:-46.6577148,-23.542049
CATEGORIES:LANÇAMENTOS,SESSÕES DE AUTÓGRAFOS
END:VEVENT
END:VCALENDAR