BEGIN:VCALENDAR
VERSION:2.0
PRODID:-//VILA - Blog - ECPv4.5.12.2//NONSGML v1.0//EN
CALSCALE:GREGORIAN
METHOD:PUBLISH
X-WR-CALNAME:VILA - Blog
X-ORIGINAL-URL:https://blog.livrariadavila.com.br
X-WR-CALDESC:Events for VILA - Blog
BEGIN:VEVENT
DTSTART;TZID=America/Sao_Paulo:20191204T193000
DTEND;TZID=America/Sao_Paulo:20191204T213000
DTSTAMP:20260423T064630
CREATED:20191202T185929Z
LAST-MODIFIED:20191202T185929Z
UID:104472-1575487800-1575495000@blog.livrariadavila.com.br
SUMMARY:Cine-Encontro
DESCRIPTION: \n
URL:https://blog.livrariadavila.com.br/event/cine-encontro/
CATEGORIES:BATE-PAPO,PALESTRAS
END:VEVENT
END:VCALENDAR