BEGIN:VCALENDAR
VERSION:2.0
PRODID:-//VILA - Blog - ECPv4.5.12.2//NONSGML v1.0//EN
CALSCALE:GREGORIAN
METHOD:PUBLISH
X-WR-CALNAME:VILA - Blog
X-ORIGINAL-URL:https://blog.livrariadavila.com.br
X-WR-CALDESC:Events for VILA - Blog
BEGIN:VEVENT
DTSTART;TZID=America/Sao_Paulo:20181127T190000
DTEND;TZID=America/Sao_Paulo:20181127T213000
DTSTAMP:20260421T064404
CREATED:20181106T170315Z
LAST-MODIFIED:20181106T170315Z
UID:23353-1543345200-1543354200@blog.livrariadavila.com.br
SUMMARY:Cinza\, carvão\, fumaça e quatro pedras de gelo
DESCRIPTION:Um homem acorda gravemente ferido no meio de um lixão. Ao que parece\, tentaram matá-lo\, mas ele não se recorda dos fatos que o levaram até ali. Muito menos de seu passado recente. Seria dado como desaparecido\, se houvesse alguém para sentir sua falta. Essa dolorosa ausência imperceptível é a brecha para dar vazão à sua revolta com o mundo contemporâneo e começar uma nova vida. Adota uma nova identidade\, falsificada. Entre seus planos: executar criminosos intocados pela Justiça e escrever um best-seller. Mas uma paixão verdadeira e arrebatadora coloca tudo em xeque. Em Cinza\, carvão\, fumaça e quatro pedras de gelo\, Luis Erlanger nos faz assistir a uma luta irracional contra os obstáculos no caminho que leva à felicidade individual e social no mundo em que vivemos. Elementos a partir dos quais tudo começa e onde tudo se acaba. \nDe Luis Erlanger \nEd. Globo Livros \n
URL:https://blog.livrariadavila.com.br/event/cinza-carvao-fumaca-e-quatro-pedras-de-gelo/
LOCATION:Av. Higienópolis\, 618 – Higienópolis\, São Paulo\, SP\, 01238-000\, Brasil
GEO:-23.542049;-46.6577148
X-APPLE-STRUCTURED-LOCATION;VALUE=URI;X-ADDRESS=Av. Higienópolis 618 – Higienópolis São Paulo SP 01238-000 Brasil;X-APPLE-RADIUS=500;X-TITLE=Av. Higienópolis\, 618 – Higienópolis:geo:-46.6577148,-23.542049
CATEGORIES:LANÇAMENTOS,SESSÕES DE AUTÓGRAFOS
END:VEVENT
END:VCALENDAR