BEGIN:VCALENDAR
VERSION:2.0
PRODID:-//VILA - Blog - ECPv4.5.12.2//NONSGML v1.0//EN
CALSCALE:GREGORIAN
METHOD:PUBLISH
X-WR-CALNAME:VILA - Blog
X-ORIGINAL-URL:https://blog.livrariadavila.com.br
X-WR-CALDESC:Events for VILA - Blog
BEGIN:VEVENT
DTSTART;TZID=America/Sao_Paulo:20181119T183000
DTEND;TZID=America/Sao_Paulo:20181119T213000
DTSTAMP:20260421T164821
CREATED:20181106T161728Z
LAST-MODIFIED:20181106T161728Z
UID:23319-1542652200-1542663000@blog.livrariadavila.com.br
SUMMARY:Circulação de Ideias em Educação Matemática
DESCRIPTION:A obra de Carla Alves de Souza tem como tema a circulação e apropriação de ideias educacionais no campo da Educação Matemática. Especificamente\, a autora opta por focar um ideário educacional que evidencia mobilizações em termos acadêmicos com expressiva intencionalidade e repercussão: a Didática da Matemática Francesa. Foram realizadas entrevistas com educadores matemáticos brasileiros alocados em núcleos institucionais de ensino superior que protagoniza(ra)m a mediação entre a Didática da Matemática Francesa e a Educação Matemática Brasileira. \nDe Carla Alves de Souza \nEd. Appris \n
URL:https://blog.livrariadavila.com.br/event/circulacao-de-ideias-em-educacao-matematica/
LOCATION:Rua Fradique Coutinho\, 915 - Pinheiros\, São Paulo\, São Paulo\, 05416-011\, Brasil
GEO:-23.5592934;-46.6892019
X-APPLE-STRUCTURED-LOCATION;VALUE=URI;X-ADDRESS=Rua Fradique Coutinho 915 - Pinheiros São Paulo São Paulo 05416-011 Brasil;X-APPLE-RADIUS=500;X-TITLE=Rua Fradique Coutinho\, 915 - Pinheiros:geo:-46.6892019,-23.5592934
CATEGORIES:LANÇAMENTOS,SESSÕES DE AUTÓGRAFOS
END:VEVENT
END:VCALENDAR