BEGIN:VCALENDAR
VERSION:2.0
PRODID:-//VILA - Blog - ECPv4.5.12.2//NONSGML v1.0//EN
CALSCALE:GREGORIAN
METHOD:PUBLISH
X-WR-CALNAME:VILA - Blog
X-ORIGINAL-URL:https://blog.livrariadavila.com.br
X-WR-CALDESC:Events for VILA - Blog
BEGIN:VEVENT
DTSTART;TZID=America/Sao_Paulo:20191211T183000
DTEND;TZID=America/Sao_Paulo:20191211T213000
DTSTAMP:20260421T181957
CREATED:20191206T162711Z
LAST-MODIFIED:20191206T162711Z
UID:107744-1576089000-1576099800@blog.livrariadavila.com.br
SUMMARY:Clara e a borrachinha
DESCRIPTION: \nClara é uma curiosa menina que gosta de acertar sempre e fica muito triste quando isso não acontece. Ela não gosta de errar. E quem gosta? Vamos entrar no quarto da Clara e descobrir que um encontro pode fazer essa menininha entender suas imperfeições e saber que errar pode abrir possibilidades antes nem imaginadas. \n  \nDe Eliane Gomes \nEd. Novo Século \n
URL:https://blog.livrariadavila.com.br/event/clara-e-a-borrachinha/
LOCATION:Avenida do Batel\, nº 1868 – Loja 314 piso L3\, Curitiba\, Paraná\, 80420-090\, Brasil
GEO:-25.443012;-49.2899507
X-APPLE-STRUCTURED-LOCATION;VALUE=URI;X-ADDRESS=Avenida do Batel nº 1868 – Loja 314 piso L3 Curitiba Paraná 80420-090 Brasil;X-APPLE-RADIUS=500;X-TITLE=Avenida do Batel\, nº 1868 – Loja 314 piso L3:geo:-49.2899507,-25.443012
CATEGORIES:LANÇAMENTOS,SESSÕES DE AUTÓGRAFOS
END:VEVENT
END:VCALENDAR