BEGIN:VCALENDAR
VERSION:2.0
PRODID:-//VILA - Blog - ECPv4.5.12.2//NONSGML v1.0//EN
CALSCALE:GREGORIAN
METHOD:PUBLISH
X-WR-CALNAME:VILA - Blog
X-ORIGINAL-URL:https://blog.livrariadavila.com.br
X-WR-CALDESC:Events for VILA - Blog
BEGIN:VEVENT
DTSTART;TZID=America/Sao_Paulo:20181121T183000
DTEND;TZID=America/Sao_Paulo:20181121T213000
DTSTAMP:20260419T215926
CREATED:20181023T123555Z
LAST-MODIFIED:20181023T123555Z
UID:23151-1542825000-1542835800@blog.livrariadavila.com.br
SUMMARY:Clínica Psicanalítica: Testemunho e hospitalidade
DESCRIPTION:Marcio de Freitas Giovannetti adiciona ao método psicanalítico a “função de testemunho”. Coerente com o legado de Freud\, aberto a atualizações e inspirado por Walter Benjamin e Giorgio Agamben\, ressalta o contemporâneo “que mantém fixo o olhar no seu tempo\, para nele perceber não as luzes\, mas o escuro”. Como testemunha\, o psicanalista dá voz ao que ainda não pode “ser legitimado enquanto experiência vivida”. Não se restringe ao recalcado ou ao emergente em situações de falência psíquica; toma em consideração o mundo. Se um de nós se chamasse Raimundo\, seria uma rima\, não uma solução. \nDe Marcio de Freitas Giovannetti \nEd. Blucher \n
URL:https://blog.livrariadavila.com.br/event/clinica-psicanalitica-testemunho-e-hospitalidade/
LOCATION:Rua Fradique Coutinho\, 915 - Pinheiros\, São Paulo\, São Paulo\, 05416-011\, Brasil
GEO:-23.5592934;-46.6892019
X-APPLE-STRUCTURED-LOCATION;VALUE=URI;X-ADDRESS=Rua Fradique Coutinho 915 - Pinheiros São Paulo São Paulo 05416-011 Brasil;X-APPLE-RADIUS=500;X-TITLE=Rua Fradique Coutinho\, 915 - Pinheiros:geo:-46.6892019,-23.5592934
CATEGORIES:LANÇAMENTOS,SESSÕES DE AUTÓGRAFOS
END:VEVENT
END:VCALENDAR