BEGIN:VCALENDAR
VERSION:2.0
PRODID:-//VILA - Blog - ECPv4.5.12.2//NONSGML v1.0//EN
CALSCALE:GREGORIAN
METHOD:PUBLISH
X-WR-CALNAME:VILA - Blog
X-ORIGINAL-URL:https://blog.livrariadavila.com.br
X-WR-CALDESC:Events for VILA - Blog
BEGIN:VEVENT
DTSTART;TZID=America/Sao_Paulo:20181128T183000
DTEND;TZID=America/Sao_Paulo:20181128T213000
DTSTAMP:20260420T101530
CREATED:20181106T181237Z
LAST-MODIFIED:20181106T181237Z
UID:23388-1543429800-1543440600@blog.livrariadavila.com.br
SUMMARY:Cloro
DESCRIPTION:Em Cloro\, Constantino é um defunto autor. No limbo em que se encontra\, ele rememora fatos decisivos de sua vida — até a morte inesperada\, aos cinquenta anos de idade. Advogado bem estabelecido em São Paulo\, aprendeu na infância que “ser bicha não era bom”. Sempre escondeu seu desejo. Desde cedo\, incorporou um personagem heterossexual. Casou-se com Débora\, sua namorada de adolescência\, e foi pai de dois filhos. Um acontecimento trágico rompe o frágil equilíbrio em que se mantinha\, e ele é confrontado com sua homossexualidade. Passa a levar uma vida dupla. Encontra-se com homens e apaixona-se por Emílio\, diplomata que conhece em Brasília. Pela voz de Constantino e depoimentos de seus familiares e amigos\, Alexandre Vidal Porto oferece uma narrativa lúcida e necessária para os tempos atuais — quando ser você mesmo é um ato de coragem. \nDe Alexandre Vidal Porto \nEd. Companhia das Letras \n
URL:https://blog.livrariadavila.com.br/event/cloro/
CATEGORIES:LANÇAMENTOS,SESSÕES DE AUTÓGRAFOS
END:VEVENT
END:VCALENDAR