BEGIN:VCALENDAR
VERSION:2.0
PRODID:-//VILA - Blog - ECPv4.5.12.2//NONSGML v1.0//EN
CALSCALE:GREGORIAN
METHOD:PUBLISH
X-WR-CALNAME:VILA - Blog
X-ORIGINAL-URL:https://blog.livrariadavila.com.br
X-WR-CALDESC:Events for VILA - Blog
BEGIN:VEVENT
DTSTART;TZID=America/Sao_Paulo:20221123T180000
DTEND;TZID=America/Sao_Paulo:20221123T210000
DTSTAMP:20260423T101406
CREATED:20221109T143628Z
LAST-MODIFIED:20221109T143628Z
UID:115963-1669226400-1669237200@blog.livrariadavila.com.br
SUMMARY:CLT COMENTADA ARTIGO POR ARTIGO - ORG. RICARDO CALCINI\, ABEL FERREIRA LOPES FILHO E JOÃO JOSÉ DA FONSECA - ED. MIZUNO
DESCRIPTION: \n  \n“Sob a coordenação dos professores Ricardo Calcini\, Abel Lopes e João José da Fonseca\, a Editora Mizuno põe à disposição do público o novo projeto “CLT Comentada – Artigo por Artigo” voltado para advogados\, gestores públicos e privados\, auditores fiscais\, magistrados\, membros do MPT\, estudantes\, operadores do direito e demais profissionais das relações de trabalho.\nA obra é apresentada de forma objetiva e clara\, com o propósito de interpretar o conhecimento descrito no texto da lei por meio de explicações técnicas e jurisprudências consolidadas\, cujos comentários aos artigos da CLT são feitos por especialistas com vasta experiência na área.\nEsta edição inaugural está de acordo com as atualizações mais recentes na legislação trabalhista\, incluindo Doutrina e Jurisprudência (Súmula\, OJ e PN) do Tribunal Superior do Trabalho\, de forma a auxiliar estudantes e profissionais do direito a compreenderem e aplicarem as normas jurídicas relacionadas a cada temática\, em especial àquelas decorrentes da reforma trabalhista.” \n
URL:https://blog.livrariadavila.com.br/event/clt-comentada-artigo-por-artigo-org-ricardo-calcini-abel-ferreira-lopes-filho-e-joao-jose-da-fonseca-ed-mizuno/
LOCATION:Av. Higienópolis\, 618 – Higienópolis\, São Paulo\, SP\, 01238-000\, Brasil
GEO:-23.542049;-46.6577148
X-APPLE-STRUCTURED-LOCATION;VALUE=URI;X-ADDRESS=Av. Higienópolis 618 – Higienópolis São Paulo SP 01238-000 Brasil;X-APPLE-RADIUS=500;X-TITLE=Av. Higienópolis\, 618 – Higienópolis:geo:-46.6577148,-23.542049
END:VEVENT
END:VCALENDAR