BEGIN:VCALENDAR
VERSION:2.0
PRODID:-//VILA - Blog - ECPv4.5.12.2//NONSGML v1.0//EN
CALSCALE:GREGORIAN
METHOD:PUBLISH
X-WR-CALNAME:VILA - Blog
X-ORIGINAL-URL:https://blog.livrariadavila.com.br
X-WR-CALDESC:Events for VILA - Blog
BEGIN:VEVENT
DTSTART;TZID=America/Sao_Paulo:20221115T160000
DTEND;TZID=America/Sao_Paulo:20221115T193000
DTSTAMP:20260423T140340
CREATED:20221108T165733Z
LAST-MODIFIED:20221108T165733Z
UID:115956-1668528000-1668540600@blog.livrariadavila.com.br
SUMMARY:COACH DE FRACASSOS - JÚLIO PEIXOTO - ED. BEST SELLER
DESCRIPTION:\n\n\n\n\n\nPor vezes paradoxal\, mas sempre cru em sua verdade\, em Coach de fracassos Júlio Peixoto nos chama de volta à realidade\, nos lembrando de que a vida não apenas pede seriedade — ela exige leveza.  Júlio Peixoto\, em seu perfil do Instagram .@coachdefracassos\, convoca seus seguidores a despertar da ilusão heroica da meritocracia. Melhor ainda: oferece generosamente a eles a possibilidade de se sentirem ridículos na busca incessante por sucesso. Assim\, é possível perceber quanto se perde ao longo do caminho\, porque ninguém que alcance sucesso em alguma área da vida pode afirmar que é bem-sucedido em todas. Essa é a vida. Ela faz rodízios. E não adianta viver driblando as consequências dessa busca — entre elas a frustração — porque\, de um jeito ou de outro\, elas chegam. Em Coach de fracassos\, Júlio Peixoto subverte o personagem do coach tradicional e parte de um ponto inesperado na atual era de prosperidade e positividade (tóxica): ele busca introduzir o processo de humanização do fracasso na vida de quem o lê. Para além das cultuadas frases desmotivacionais do seu perfil no Instagram\, esse coach\, favorito de muitos que o seguem\, destrincha as fases do fracasso. Além disso\, disponibiliza ao leitor uma metodologia que o ajudará a obter sucesso em conviver com o fracasso. Aprenda com o Coach de Fracassos a desenvolver o raro dom de rir das próprias derrotas\, e prepare-se para encarar a dura realidade: você é mortal como todos os seres humanos. Ao compreender isso verdadeiramente\, torna-se mais fácil aceitar que a vida equilibra ganhos e perdas. O que nos diferencia é a forma como encaramos nossas falhas e como prosseguimos a partir dessas experiências. Afinal\, o fracasso não nos define — ele nos redefine. &#160; “A vida é uma série de tentativas que não deram certo. Você só chegou aonde chegou\, mesmo não chegando a lugar nenhum\, por conta das suas péssimas escolhas\, dos seus erros e\, principalmente\, dos seus fracassos.” – Júlio Peixoto\n\n\n\n\n
URL:https://blog.livrariadavila.com.br/event/coach-de-fracassos-julio-peixoto-ed-best-seller/
LOCATION:Rua Fradique Coutinho\, 915 - Pinheiros\, São Paulo\, São Paulo\, 05416-011\, Brasil
GEO:-23.5592934;-46.6892019
X-APPLE-STRUCTURED-LOCATION;VALUE=URI;X-ADDRESS=Rua Fradique Coutinho 915 - Pinheiros São Paulo São Paulo 05416-011 Brasil;X-APPLE-RADIUS=500;X-TITLE=Rua Fradique Coutinho\, 915 - Pinheiros:geo:-46.6892019,-23.5592934
END:VEVENT
END:VCALENDAR