BEGIN:VCALENDAR
VERSION:2.0
PRODID:-//VILA - Blog - ECPv4.5.12.2//NONSGML v1.0//EN
CALSCALE:GREGORIAN
METHOD:PUBLISH
X-WR-CALNAME:VILA - Blog
X-ORIGINAL-URL:https://blog.livrariadavila.com.br
X-WR-CALDESC:Events for VILA - Blog
BEGIN:VEVENT
DTSTART;TZID=America/Sao_Paulo:20221125T180000
DTEND;TZID=America/Sao_Paulo:20221125T210000
DTSTAMP:20260421T232817
CREATED:20221116T195619Z
LAST-MODIFIED:20221116T195619Z
UID:116039-1669399200-1669410000@blog.livrariadavila.com.br
SUMMARY:CÓDIGO DAS EMOÇÕES - TALITA PUPO CRUZ - ED. LITERARE
DESCRIPTION:\n\n \n  \nTodos nós temos emoções\, mas cada indivíduo aprende a expressá-las de uma forma única. O que acontece em nosso mundo interior está diretamente relacionado com nosso mundo exterior\, com o contexto no qual estamos inseridos e interagindo a todo momento. Por meio de 54 especialistas\, o “Código das emoções” ensina pais\, educadores e profissionais que atuam com a infância sobre as emoções e os sentimentos. Em uma linguagem acessível e escrito por profissionais que têm conhecimento e prática com crianças\, a obra ressalta a importância de a educação emocional começar na infância e ser realizada de forma lúdica\, sendo a regulação emocional a base para o desenvolvimento saudável do ser humano. O livro foca as habilidades socioemocionais que devem ser ensinadas desde a mais tenra idade. Os adultos que convivem com crianças precisam ter clareza que uma de suas responsabilidades é criar ou mesmo valer-se das oportunidades para ensinar as crianças a gerirem suas próprias emoções\, visto que sabemos que ninguém nasce com essa habilidade. Aprender a identificar\, nomear e expressar sentimentos deve fazer parte da educação diária de toda criança\, assim como o sentir da criança deve ser incentivado e validado pelos adultos em um ambiente acolhedor e empático. São autores desta obra: Adriana Mazieiro\, Aline Campregher\, Ana Claudia Paranzini Sampaio\, Ana Luísa Rosnel de Miranda Magalhães Santos\, Ana Paula A. Savagnago\, Andressa Feitosa de Lima\, Áurea E Om Spricigo Siqueira\, Beatriz Azem\, Beatr \n\n\n
URL:https://blog.livrariadavila.com.br/event/codigo-das-emocoes-talita-pupo-cruz-ed-literare/
LOCATION:Av. Juscelino Kubitschek\, 2041 - Itaim Bibi\, São Paulo\, São Paulo\, 04543-011\, Brasil
GEO:-23.5914219;-46.6898224
X-APPLE-STRUCTURED-LOCATION;VALUE=URI;X-ADDRESS=Av. Juscelino Kubitschek 2041 - Itaim Bibi São Paulo São Paulo 04543-011 Brasil;X-APPLE-RADIUS=500;X-TITLE=Av. Juscelino Kubitschek\, 2041 - Itaim Bibi:geo:-46.6898224,-23.5914219
END:VEVENT
END:VCALENDAR