BEGIN:VCALENDAR
VERSION:2.0
PRODID:-//VILA - Blog - ECPv4.5.12.2//NONSGML v1.0//EN
CALSCALE:GREGORIAN
METHOD:PUBLISH
X-WR-CALNAME:VILA - Blog
X-ORIGINAL-URL:https://blog.livrariadavila.com.br
X-WR-CALDESC:Events for VILA - Blog
BEGIN:VEVENT
DTSTART;TZID=America/Sao_Paulo:20231020T190000
DTEND;TZID=America/Sao_Paulo:20231020T213000
DTSTAMP:20260420T134844
CREATED:20230926T170209Z
LAST-MODIFIED:20230926T170209Z
UID:119617-1697828400-1697837400@blog.livrariadavila.com.br
SUMMARY:COLHEITA DE OSSOS - PABLO ZORZI – ED. ASTRAL CULTURAL
DESCRIPTION:\n\n\n\n\n\nHugo Martins é policial há menos de um mês quando dois corpos que tiveram os corações arrancados são encontrados em uma propriedade rural de um pequeno município catarinense. Enquanto avança em sua primeira investigação\, ele é transportado para dentro de um perigoso jogo de vida e morte\, no qual precisará enfrentar um adversário cruel\, que não mede esforços para acobertar seus rastros. Conforme pistas são descobertas\, novos caminhos surgem\, embora todos conduzam ao mesmo destino: lugar nenhum. Desafiando um especialista enquanto aprende a ser policial\, Hugo encontra uma ajuda inesperada em um antigo diário deixado na sua porta por um velho misterioso. O tabuleiro está montado. Mas como Hugo vencerá essa partida em que o adversário parece estar sempre uma jogada à frente?\n\n\n\n\n
URL:https://blog.livrariadavila.com.br/event/colheita-de-ossos-pablo-zorzi-ed-astral-cultural/
LOCATION:R. Treze de Maio\, 1947 - Bela Vista\, São Paulo\, São Paulo\, 01327-900
END:VEVENT
END:VCALENDAR