BEGIN:VCALENDAR
VERSION:2.0
PRODID:-//VILA - Blog - ECPv4.5.12.2//NONSGML v1.0//EN
CALSCALE:GREGORIAN
METHOD:PUBLISH
X-WR-CALNAME:VILA - Blog
X-ORIGINAL-URL:https://blog.livrariadavila.com.br
X-WR-CALDESC:Events for VILA - Blog
BEGIN:VEVENT
DTSTART;TZID=America/Sao_Paulo:20181006T110000
DTEND;TZID=America/Sao_Paulo:20181006T123000
DTSTAMP:20260424T001807
CREATED:20180919T140527Z
LAST-MODIFIED:20180924T141636Z
UID:22491-1538823600-1538829000@blog.livrariadavila.com.br
SUMMARY:Colo com leitura
DESCRIPTION:  \nA partir da leitura de “Petit\, o monstro” (Isol)\, o Colo com Leitura proporcionará um gostoso momento de interação entre pais-bebês (até um ano)\, além de um descontraído bate-papo sobre os sentimentos\, dilemas\, desafios e dificuldades vividos na gravidez e no puerpério. \nCom Patrícia Grinfeld e Gabriela Amaral\, da rede Ninguém Cresce Sozinho \nA Ninguém Cresce Sozinho é uma rede formada por psicólogas e psicanalistas que tem como objetivo proporcionar espaços de informação e de reflexão\, individualmente ou em grupo\, bem como suporte emocional a bebês e crianças\, e a homens\, mulheres e profissionais que se deparam com questões relacionadas aos primeiros anos de vida e ao processo de se tornar mãe e pai\, incluindo o período anterior à concepção ou adoção. \n  \nPúblico indicado: mães\, pais e responsáveis com seus bebês de até 1 ano e gestantes \nEvento gratuito (auditório) \n  \n
URL:https://blog.livrariadavila.com.br/event/colo-com-leitura/
LOCATION:Rua Fradique Coutinho\, 915 - Pinheiros\, São Paulo\, São Paulo\, 05416-011\, Brasil
GEO:-23.5592934;-46.6892019
X-APPLE-STRUCTURED-LOCATION;VALUE=URI;X-ADDRESS=Rua Fradique Coutinho 915 - Pinheiros São Paulo São Paulo 05416-011 Brasil;X-APPLE-RADIUS=500;X-TITLE=Rua Fradique Coutinho\, 915 - Pinheiros:geo:-46.6892019,-23.5592934
CATEGORIES:PALESTRAS
END:VEVENT
END:VCALENDAR