BEGIN:VCALENDAR
VERSION:2.0
PRODID:-//VILA - Blog - ECPv4.5.12.2//NONSGML v1.0//EN
CALSCALE:GREGORIAN
METHOD:PUBLISH
X-WR-CALNAME:VILA - Blog
X-ORIGINAL-URL:https://blog.livrariadavila.com.br
X-WR-CALDESC:Events for VILA - Blog
BEGIN:VEVENT
DTSTART;TZID=America/Sao_Paulo:20230922T180000
DTEND;TZID=America/Sao_Paulo:20230922T213000
DTSTAMP:20260420T094010
CREATED:20230919T181136Z
LAST-MODIFIED:20230919T181136Z
UID:119479-1695405600-1695418200@blog.livrariadavila.com.br
SUMMARY:COM OS SAPATOS ANIQUILADOS\, HELENA AVANÇA NA NEVE - MARCIA TIBURI - ED. NÓS
DESCRIPTION: \n  \nHelena\, uma brasileira misteriosa e silenciosa\, passa a viver em Paris\, no apartamento de Chloé\, uma mulher solitária\, mas combativa\, com um doloroso passado do qual não pode se livrar ou esquecer. Aos poucos\, o passado também fantasmagoricamente real de Helena vai se desvelando\, evidenciando um traço comum entre elas. Vivendo entre maridos flagrantemente abusadores\, pais assassinos\, irmãos patologicamente evangelizados e policiais corruptos e monstruosos\, Helena e Chloé se voltam contra a barbárie do feminicídio alimentadas por um desejo de vingança. Neste thriller feminista nem um pouco conciliador\, Márcia Tiburi alegoriza o turbilhão de violências vivido pelas mulheres de todas as épocas e lugares\, lançando um olhar impiedoso para as grandes instituições garantidoras do extermínio das mulheres: a família\, a igreja\, a polícia\, isto é\, o patriarcado e seu truculento projeto de poder. \n
URL:https://blog.livrariadavila.com.br/event/com-os-sapatos-aniquilados-helena-avanca-na-neve-marcia-tiburi-ed-nos/
LOCATION:SHIN CA 04\, BLOCO A\, Brasília\, Distrito federal\, 71503-504\, Brasil
END:VEVENT
END:VCALENDAR