BEGIN:VCALENDAR
VERSION:2.0
PRODID:-//VILA - Blog - ECPv4.5.12.2//NONSGML v1.0//EN
CALSCALE:GREGORIAN
METHOD:PUBLISH
X-WR-CALNAME:VILA - Blog
X-ORIGINAL-URL:https://blog.livrariadavila.com.br
X-WR-CALDESC:Events for VILA - Blog
BEGIN:VEVENT
DTSTART;TZID=America/Sao_Paulo:20221201T180000
DTEND;TZID=America/Sao_Paulo:20221201T210000
DTSTAMP:20260421T232627
CREATED:20221117T130554Z
LAST-MODIFIED:20221117T130554Z
UID:116056-1669917600-1669928400@blog.livrariadavila.com.br
SUMMARY:COMENTÁRIOS AOS REGULAMENTOS E ORIENTAÇÕES DA ANPD - COORD. ANA PAULA CANTO DE LIMA - ED. RT
DESCRIPTION: \n  \nO livro “Comentários aos regulamentos e orientações da ANPD: a atuação administrativa da Autoridade Nacional de Proteção de Dados” não é apenas inédito\, mas imprescindível para a maturidade de compreensão e aplicação da proteção de dados no Brasil. Os autores conseguiram\, magistralmente\, dissecar\, em linguagem simples e acessível\, mas sem descuidar do rigor técnico\, as regulamentações\, os estudos\, as orientações e recomendações da ANPD. A bem da verdade\, esta obra tem dupla função: de um lado\, facilitar a compreensão sobre tema tão complexo e técnico\, por vezes de entendimento inacessível para parte expressiva da sociedade; por outro lado\, servir de verdadeiro catálogo memorial da intensa atividade administrativa da ANPD. É\, sem dúvida\, obra doutrinária das mais relevantes e úteis ao Brasil. \n
URL:https://blog.livrariadavila.com.br/event/comentarios-aos-regulamentos-e-orientacoes-da-anpd-coord-ana-paula-canto-de-lima-ed-rt/
LOCATION:Av. Juscelino Kubitschek\, 2041 - Itaim Bibi\, São Paulo\, São Paulo\, 04543-011\, Brasil
GEO:-23.5914219;-46.6898224
X-APPLE-STRUCTURED-LOCATION;VALUE=URI;X-ADDRESS=Av. Juscelino Kubitschek 2041 - Itaim Bibi São Paulo São Paulo 04543-011 Brasil;X-APPLE-RADIUS=500;X-TITLE=Av. Juscelino Kubitschek\, 2041 - Itaim Bibi:geo:-46.6898224,-23.5914219
END:VEVENT
END:VCALENDAR