BEGIN:VCALENDAR
VERSION:2.0
PRODID:-//VILA - Blog - ECPv4.5.12.2//NONSGML v1.0//EN
CALSCALE:GREGORIAN
METHOD:PUBLISH
X-WR-CALNAME:VILA - Blog
X-ORIGINAL-URL:https://blog.livrariadavila.com.br
X-WR-CALDESC:Events for VILA - Blog
BEGIN:VEVENT
DTSTART;TZID=America/Sao_Paulo:20181002T183000
DTEND;TZID=America/Sao_Paulo:20181002T213000
DTSTAMP:20260422T221151
CREATED:20180924T165402Z
LAST-MODIFIED:20180924T165402Z
UID:22578-1538505000-1538515800@blog.livrariadavila.com.br
SUMMARY:Compliance e gestão de riscos nas empresas estatais
DESCRIPTION: Didático e ao mesmo tempo completo\, o livro Compliance e gestão\nde riscos nas empresas estatais será o novo manual de cabeceira das diretorias de integridade das estatais. Vários excelentes trabalhos têm sido produzidos sobre a temática\, mas a obra escrita com maestria por Rodrigo Pironti e Francine Gonçalves inova ao ir além da teoria\, buscando ser um verdadeiro guia jurídico. Doutrina e legislação são acompanhadas de gráficos\, tabelas e roteiros que tornarão mais simples a vida dos operadores deste importante tema que se tornou um dos mais debatidos no cenário brasileiro atual. Particularmente\, a métrica criada pelos autores para a avaliação da efetividade dos programas é o ponto alto do texto\, agregando valor à obra que se tornará\, sem dúvida\, o mais novo best-seller na matéria. \nDe Rodrigo Pironti Aguirre de Castro e Francine Silva Pacheco Gonçalves \nEd. Fórum \n
URL:https://blog.livrariadavila.com.br/event/compliance-e-gestao-de-riscos-nas-empresas-estatais/
LOCATION:Avenida do Batel\, nº 1868 – Loja 314 piso L3\, Curitiba\, Paraná\, 80420-090\, Brasil
GEO:-25.443012;-49.2899507
X-APPLE-STRUCTURED-LOCATION;VALUE=URI;X-ADDRESS=Avenida do Batel nº 1868 – Loja 314 piso L3 Curitiba Paraná 80420-090 Brasil;X-APPLE-RADIUS=500;X-TITLE=Avenida do Batel\, nº 1868 – Loja 314 piso L3:geo:-49.2899507,-25.443012
CATEGORIES:LANÇAMENTOS,SESSÕES DE AUTÓGRAFOS
END:VEVENT
END:VCALENDAR