BEGIN:VCALENDAR
VERSION:2.0
PRODID:-//VILA - Blog - ECPv4.5.12.2//NONSGML v1.0//EN
CALSCALE:GREGORIAN
METHOD:PUBLISH
X-WR-CALNAME:VILA - Blog
X-ORIGINAL-URL:https://blog.livrariadavila.com.br
X-WR-CALDESC:Events for VILA - Blog
BEGIN:VEVENT
DTSTART;TZID=America/Sao_Paulo:20180927T183000
DTEND;TZID=America/Sao_Paulo:20180927T213000
DTSTAMP:20260423T193259
CREATED:20180917T161430Z
LAST-MODIFIED:20180917T161430Z
UID:22484-1538073000-1538083800@blog.livrariadavila.com.br
SUMMARY:Comportamento Humano e Ferramentas de Coaching
DESCRIPTION:Os autores lançam as duas obras na Livraria da Vila do Pátio Batel em Curitiba. \nDe Ivnes Garrido e Maclean Oliveira \nEd. Ser e Saber \n
URL:https://blog.livrariadavila.com.br/event/comportamento-humano-e-ferramentas-de-coaching/
LOCATION:Avenida do Batel\, nº 1868 – Loja 314 piso L3\, Curitiba\, Paraná\, 80420-090\, Brasil
GEO:-25.443012;-49.2899507
X-APPLE-STRUCTURED-LOCATION;VALUE=URI;X-ADDRESS=Avenida do Batel nº 1868 – Loja 314 piso L3 Curitiba Paraná 80420-090 Brasil;X-APPLE-RADIUS=500;X-TITLE=Avenida do Batel\, nº 1868 – Loja 314 piso L3:geo:-49.2899507,-25.443012
CATEGORIES:LANÇAMENTOS,SESSÕES DE AUTÓGRAFOS
END:VEVENT
END:VCALENDAR