BEGIN:VCALENDAR
VERSION:2.0
PRODID:-//VILA - Blog - ECPv4.5.12.2//NONSGML v1.0//EN
CALSCALE:GREGORIAN
METHOD:PUBLISH
X-WR-CALNAME:VILA - Blog
X-ORIGINAL-URL:https://blog.livrariadavila.com.br
X-WR-CALDESC:Events for VILA - Blog
BEGIN:VEVENT
DTSTART;TZID=America/Sao_Paulo:20250403T190000
DTEND;TZID=America/Sao_Paulo:20250403T213000
DTSTAMP:20260422T160635
CREATED:20250220T163424Z
LAST-MODIFIED:20250221T211105Z
UID:126255-1743706800-1743715800@blog.livrariadavila.com.br
SUMMARY:COMUNICAÇÃO DE IMPACTO - MÁRCIA RIZZI - ED. ERUDITUS
DESCRIPTION: \nA trajetória na liderança possui um elemento que se destaca como a espinha dorsal da jornada toda. Você sabe dizer qual é esse elemento? É a comunicação. A liderança eficaz\, em busca de resultados significativos\, está alicerçada na comunicação. Já\, a comunicação clara\, autêntica e impactante nos empodera como líderes que criam impacto real na equipe\, na organização e além. Neste livro\, destinado a líderes que desejam influenciar\, inspirar e engajar pessoas\, buscaremos o aprimoramento da comunicação através dos perfis comportamentais da teoria DISC\, do storytelling\, gestão de conflitos\, feedback e outros. Recomendado para gestores iniciantes\, assim como\, para os experientes que desejam desenvolver-se continuamente. \n
URL:https://blog.livrariadavila.com.br/event/comunicacao-de-impacto-marcia-rizzi-ed-eruditus/
LOCATION:Av. Juscelino Kubitschek\, 2041 - Itaim Bibi\, São Paulo\, São Paulo\, 04543-011\, Brasil
GEO:-23.5914219;-46.6898224
X-APPLE-STRUCTURED-LOCATION;VALUE=URI;X-ADDRESS=Av. Juscelino Kubitschek 2041 - Itaim Bibi São Paulo São Paulo 04543-011 Brasil;X-APPLE-RADIUS=500;X-TITLE=Av. Juscelino Kubitschek\, 2041 - Itaim Bibi:geo:-46.6898224,-23.5914219
CATEGORIES:SESSÕES DE AUTÓGRAFOS
END:VEVENT
END:VCALENDAR