BEGIN:VCALENDAR
VERSION:2.0
PRODID:-//VILA - Blog - ECPv4.5.12.2//NONSGML v1.0//EN
CALSCALE:GREGORIAN
METHOD:PUBLISH
X-WR-CALNAME:VILA - Blog
X-ORIGINAL-URL:https://blog.livrariadavila.com.br
X-WR-CALDESC:Events for VILA - Blog
BEGIN:VEVENT
DTSTART;TZID=America/Sao_Paulo:20191031T183000
DTEND;TZID=America/Sao_Paulo:20191031T213000
DTSTAMP:20260423T014526
CREATED:20191002T162639Z
LAST-MODIFIED:20191004T142036Z
UID:99518-1572546600-1572557400@blog.livrariadavila.com.br
SUMMARY:Conexão - A chave do verdadeiro amor
DESCRIPTION:Luisa é jovem e sua imensa vontade de ser inserida e aceita pelo grupo de amigos da adolescência faz com que tome a pior decisão de sua vida\, que carregará por anos a culpa de sua insegurança. Anos depois do ocorrido\, aceita a bolsa de estudos fora do país e embarca para a Turquia na tentativa de encontrar sua verdadeira identidade bem longe da influência da família e dos erros do passado. Na cidade de Istambul\, o destino a surpreende com grandes emoções. Ela se depara com o seu ex-namorado\, o motivo de toda a sua culpa. Hoje ele é um homem aventureiro e verdadeiramente sedutor. A maior revelação desse reencontro Luisa só saberá após passar alguns dias ao lado dele e enxergar o mundo pelos olhos de Théo. Nesse momento da sua jornada não terá mais desculpas para fugir de sentimentos guardados a sete chaves. Só existe um caminho a escolher na vida\, e esta é a maior certeza que ela possui. Ou vive o presente tão sonhado construído ao lado do seu namorado turco ou se arrisca a voltar ao passado para curar de uma vez todas as suas feridas. Conexão é uma história envolvente que fará você perceber que a vida nos brinda com uma segunda chance quando estamos de coração aberto para trabalharmos o perdão em nós mesmos. \n  \nDe Juliana Marinho \nIndependente \n
URL:https://blog.livrariadavila.com.br/event/conexao-a-chave-do-verdadeiro-amor/
LOCATION:Av. Juscelino Kubitschek\, 2041 - Itaim Bibi\, São Paulo\, São Paulo\, 04543-011\, Brasil
GEO:-23.5914219;-46.6898224
X-APPLE-STRUCTURED-LOCATION;VALUE=URI;X-ADDRESS=Av. Juscelino Kubitschek 2041 - Itaim Bibi São Paulo São Paulo 04543-011 Brasil;X-APPLE-RADIUS=500;X-TITLE=Av. Juscelino Kubitschek\, 2041 - Itaim Bibi:geo:-46.6898224,-23.5914219
CATEGORIES:LANÇAMENTOS,SESSÕES DE AUTÓGRAFOS
END:VEVENT
END:VCALENDAR