BEGIN:VCALENDAR
VERSION:2.0
PRODID:-//VILA - Blog - ECPv4.5.12.2//NONSGML v1.0//EN
CALSCALE:GREGORIAN
METHOD:PUBLISH
X-WR-CALNAME:VILA - Blog
X-ORIGINAL-URL:https://blog.livrariadavila.com.br
X-WR-CALDESC:Events for VILA - Blog
BEGIN:VEVENT
DTSTART;TZID=America/Sao_Paulo:20191207T160000
DTEND;TZID=America/Sao_Paulo:20191207T180000
DTSTAMP:20260423T000222
CREATED:20191202T191705Z
LAST-MODIFIED:20191202T191705Z
UID:104482-1575734400-1575741600@blog.livrariadavila.com.br
SUMMARY:Confraria das Lagartixas
DESCRIPTION:Nesse encontro\, vamos analisar O peru de Natal\, conto de Mário de Andrade em que o narrador abre um leque de diálogos consigo mesmo\, no intuito de compreender o que representa a figura do pai no contexto da família tradicional e conservadora\, e o filme Estão todos bem\, dirigido por Kirk Jones. No filme\, Frank Goode é um viúvo que mantinha relação com a sua família apenas por meio de sua esposa. Após a morte dela\, ele planeja uma viagem para se reunir com cada um de seus filhos. Ele\, então\, percebe que a vida deles não é tão perfeita quanto eles diziam ser. Não perca! \n
URL:https://blog.livrariadavila.com.br/event/confraria-das-lagartixas/
CATEGORIES:CLUBES DE LEITURA
END:VEVENT
END:VCALENDAR