BEGIN:VCALENDAR
VERSION:2.0
PRODID:-//VILA - Blog - ECPv4.5.12.2//NONSGML v1.0//EN
CALSCALE:GREGORIAN
METHOD:PUBLISH
X-WR-CALNAME:VILA - Blog
X-ORIGINAL-URL:https://blog.livrariadavila.com.br
X-WR-CALDESC:Events for VILA - Blog
BEGIN:VEVENT
DTSTART;TZID=America/Sao_Paulo:20181217T183000
DTEND;TZID=America/Sao_Paulo:20181217T213000
DTSTAMP:20260422T000636
CREATED:20181203T142105Z
LAST-MODIFIED:20181203T142105Z
UID:24018-1545071400-1545082200@blog.livrariadavila.com.br
SUMMARY:Constitucionalismo feminista
DESCRIPTION: Esta obra é um chamamento. Um convite à reflexão a todos os estudantes\, professores e pesquisadores em direito constitucional que\, no aniversário de 30 anos da Constituição de 1988\, queiram compreender\, aprender e discutir o direito constitucional produzido por mulheres que escolheram o constitucionalismo e as questões constitucionais como fontes inspiradoras de seus estudos\, pesquisas e trabalhos\, tendo a Constituição da República como referência normativa mais importante do seu labor jurídico.\, \nDe Christine Peter\, Estefânia de Queiroz Barboza e Melina Girardi Fachin (Coord.) \nEd. Juspodivm \n
URL:https://blog.livrariadavila.com.br/event/constitucionalismo-feminista/
LOCATION:Avenida do Batel\, nº 1868 – Loja 314 piso L3\, Curitiba\, Paraná\, 80420-090\, Brasil
GEO:-25.443012;-49.2899507
X-APPLE-STRUCTURED-LOCATION;VALUE=URI;X-ADDRESS=Avenida do Batel nº 1868 – Loja 314 piso L3 Curitiba Paraná 80420-090 Brasil;X-APPLE-RADIUS=500;X-TITLE=Avenida do Batel\, nº 1868 – Loja 314 piso L3:geo:-49.2899507,-25.443012
CATEGORIES:LANÇAMENTOS,SESSÕES DE AUTÓGRAFOS
END:VEVENT
END:VCALENDAR