BEGIN:VCALENDAR
VERSION:2.0
PRODID:-//VILA - Blog - ECPv4.5.12.2//NONSGML v1.0//EN
CALSCALE:GREGORIAN
METHOD:PUBLISH
X-WR-CALNAME:VILA - Blog
X-ORIGINAL-URL:https://blog.livrariadavila.com.br
X-WR-CALDESC:Events for VILA - Blog
BEGIN:VEVENT
DTSTART;TZID=America/Sao_Paulo:20191212T183000
DTEND;TZID=America/Sao_Paulo:20191212T213000
DTSTAMP:20260421T134234
CREATED:20191206T164909Z
LAST-MODIFIED:20191206T164909Z
UID:107753-1576175400-1576186200@blog.livrariadavila.com.br
SUMMARY:Construcionismo social
DESCRIPTION:O movimento construcionista social tem aglutinado pesquisadores e profissionais de diferentes áreas interessados em construírem alternativas aos modos tradicionais de entender a produção do conhecimento e o funcionamento da sociedade de forma a produzir novas práticas de cuidado e de mudança em diferentes contextos. Ele reconhece as transformações do mundo contemporâneo\, seus embates e desafios atuais\, bem como a necessidade de rever nosso modo de agir. \n  \nDe Marilene Grandesso\, Adiano Beiras e Flávia Nascimento Marfrim \nEd. CRV \n
URL:https://blog.livrariadavila.com.br/event/construcionismo-social/
LOCATION:Av. Higienópolis\, 618 – Higienópolis\, São Paulo\, SP\, 01238-000\, Brasil
GEO:-23.542049;-46.6577148
X-APPLE-STRUCTURED-LOCATION;VALUE=URI;X-ADDRESS=Av. Higienópolis 618 – Higienópolis São Paulo SP 01238-000 Brasil;X-APPLE-RADIUS=500;X-TITLE=Av. Higienópolis\, 618 – Higienópolis:geo:-46.6577148,-23.542049
CATEGORIES:LANÇAMENTOS,SESSÕES DE AUTÓGRAFOS
END:VEVENT
END:VCALENDAR