BEGIN:VCALENDAR
VERSION:2.0
PRODID:-//VILA - Blog - ECPv4.5.12.2//NONSGML v1.0//EN
CALSCALE:GREGORIAN
METHOD:PUBLISH
X-WR-CALNAME:VILA - Blog
X-ORIGINAL-URL:https://blog.livrariadavila.com.br
X-WR-CALDESC:Events for VILA - Blog
BEGIN:VEVENT
DTSTART;TZID=America/Sao_Paulo:20230715T160000
DTEND;TZID=America/Sao_Paulo:20230715T170000
DTSTAMP:20260421T202955
CREATED:20230705T195434Z
LAST-MODIFIED:20230705T195434Z
UID:118290-1689436800-1689440400@blog.livrariadavila.com.br
SUMMARY:CONTAÇÃO DE HISTÓRIA A CASA DO TATU - COM JOÃO PORÃO PRODUTORA
DESCRIPTION: \n
URL:https://blog.livrariadavila.com.br/event/contacao-de-historia-a-casa-do-tatu-com-joao-porao-produtora/
LOCATION:Av.Luiz Eduardo de Toledo Prado\, 900\, Ribeirão Preto\, São Paulo\, 14027-250\, Brasil
CATEGORIES:FÉRIAS NA VILA
END:VEVENT
END:VCALENDAR