BEGIN:VCALENDAR
VERSION:2.0
PRODID:-//VILA - Blog - ECPv4.5.12.2//NONSGML v1.0//EN
CALSCALE:GREGORIAN
METHOD:PUBLISH
X-WR-CALNAME:VILA - Blog
X-ORIGINAL-URL:https://blog.livrariadavila.com.br
X-WR-CALDESC:Events for VILA - Blog
BEGIN:VEVENT
DTSTART;TZID=America/Sao_Paulo:20230716T150000
DTEND;TZID=America/Sao_Paulo:20230716T160000
DTSTAMP:20260421T074909
CREATED:20230705T203653Z
LAST-MODIFIED:20230705T203653Z
UID:118317-1689519600-1689523200@blog.livrariadavila.com.br
SUMMARY:CONTAÇÃO DE HISTÓRIA CIÊNCIA DO FAÇA VOCÊ MESMO: ENGENHARIA - COM TIA RÔ - ED. HAPPY BOOKS
DESCRIPTION: \n
URL:https://blog.livrariadavila.com.br/event/contacao-de-historia-ciencia-do-faca-voce-mesmo-engenharia-com-tia-ro-ed-happy-books/
LOCATION:Avenida Iguatemi\, N° 777 Loja 137A1 - Vila Brandina\, Campinas\, São Paulo\, 13092-902\, Brasil
CATEGORIES:FÉRIAS NA VILA
END:VEVENT
END:VCALENDAR