BEGIN:VCALENDAR
VERSION:2.0
PRODID:-//VILA - Blog - ECPv4.5.12.2//NONSGML v1.0//EN
CALSCALE:GREGORIAN
METHOD:PUBLISH
X-WR-CALNAME:VILA - Blog
X-ORIGINAL-URL:https://blog.livrariadavila.com.br
X-WR-CALDESC:Events for VILA - Blog
BEGIN:VEVENT
DTSTART;TZID=America/Sao_Paulo:20230709T150000
DTEND;TZID=America/Sao_Paulo:20230709T160000
DTSTAMP:20260423T021627
CREATED:20230705T161638Z
LAST-MODIFIED:20230705T161638Z
UID:118234-1688914800-1688918400@blog.livrariadavila.com.br
SUMMARY:CONTAÇÃO DE HISTÓRIA COMO CAPTURAR UM MONSTRO E COMO CAPTURAR UMA SEREIA - COM MARCUS - ED. ONLINE
DESCRIPTION:  \n
URL:https://blog.livrariadavila.com.br/event/contacao-de-historia-como-capturar-um-monstro-e-como-capturar-uma-sereia-com-marcus-ed-online/
LOCATION:R. Treze de Maio\, 1947 - Bela Vista\, São Paulo\, São Paulo\, 01327-900
CATEGORIES:FÉRIAS NA VILA
END:VEVENT
END:VCALENDAR