BEGIN:VCALENDAR
VERSION:2.0
PRODID:-//VILA - Blog - ECPv4.5.12.2//NONSGML v1.0//EN
CALSCALE:GREGORIAN
METHOD:PUBLISH
X-WR-CALNAME:VILA - Blog
X-ORIGINAL-URL:https://blog.livrariadavila.com.br
X-WR-CALDESC:Events for VILA - Blog
BEGIN:VEVENT
DTSTART;TZID=America/Sao_Paulo:20230715T150000
DTEND;TZID=America/Sao_Paulo:20230715T160000
DTSTAMP:20260421T235937
CREATED:20230705T193402Z
LAST-MODIFIED:20230705T193402Z
UID:118284-1689433200-1689436800@blog.livrariadavila.com.br
SUMMARY:CONTAÇÃO DE HISTÓRIA EU ESTOU COM VOCÊ - COM SABRINA SEGUNDO E MARCELO MARQUES - ED. CATAPULTA
DESCRIPTION: \n
URL:https://blog.livrariadavila.com.br/event/contacao-de-historia-eu-estou-com-voce-com-sabrina-segundo-e-marcelo-marques-ed-catapulta/
LOCATION:R. Treze de Maio\, 1947 - Bela Vista\, São Paulo\, São Paulo\, 01327-900
CATEGORIES:FÉRIAS NA VILA
END:VEVENT
END:VCALENDAR