BEGIN:VCALENDAR
VERSION:2.0
PRODID:-//VILA - Blog - ECPv4.5.12.2//NONSGML v1.0//EN
CALSCALE:GREGORIAN
METHOD:PUBLISH
X-WR-CALNAME:VILA - Blog
X-ORIGINAL-URL:https://blog.livrariadavila.com.br
X-WR-CALDESC:Events for VILA - Blog
BEGIN:VEVENT
DTSTART;TZID=America/Sao_Paulo:20230709T150000
DTEND;TZID=America/Sao_Paulo:20230709T160000
DTSTAMP:20260423T034209
CREATED:20230705T161117Z
LAST-MODIFIED:20230705T161117Z
UID:118231-1688914800-1688918400@blog.livrariadavila.com.br
SUMMARY:CONTAÇÃO DE HISTÓRIA FLORISVALDO - COM DÉBORA BIANCA - ED. CIRANDA CULTURAL
DESCRIPTION: \n
URL:https://blog.livrariadavila.com.br/event/contacao-de-historia-florisvaldo-com-debora-bianca-ed-ciranda-cultural/
LOCATION:SHIN CA 04\, BLOCO A\, Brasília\, Distrito federal\, 71503-504\, Brasil
CATEGORIES:FÉRIAS NA VILA
END:VEVENT
END:VCALENDAR