BEGIN:VCALENDAR
VERSION:2.0
PRODID:-//VILA - Blog - ECPv4.5.12.2//NONSGML v1.0//EN
CALSCALE:GREGORIAN
METHOD:PUBLISH
X-WR-CALNAME:VILA - Blog
X-ORIGINAL-URL:https://blog.livrariadavila.com.br
X-WR-CALDESC:Events for VILA - Blog
BEGIN:VEVENT
DTSTART;TZID=America/Sao_Paulo:20230716T150000
DTEND;TZID=America/Sao_Paulo:20230716T160000
DTSTAMP:20260421T171448
CREATED:20230705T200302Z
LAST-MODIFIED:20230705T200302Z
UID:118297-1689519600-1689523200@blog.livrariadavila.com.br
SUMMARY:CONTAÇÃO DE HISTÓRIA GILDO ESTÁ FORA DO RITMO - COM SAMUCA - ED. CIA DAS LETRAS
DESCRIPTION: \n
URL:https://blog.livrariadavila.com.br/event/contacao-de-historia-gildo-esta-fora-do-ritmo-com-samuca-ed-cia-das-letras/
LOCATION:Alameda Lorena\, 1501\, São Paulo\, São Paulo\, 01424-005\, Brasil
CATEGORIES:FÉRIAS NA VILA
END:VEVENT
END:VCALENDAR