BEGIN:VCALENDAR
VERSION:2.0
PRODID:-//VILA - Blog - ECPv4.5.12.2//NONSGML v1.0//EN
CALSCALE:GREGORIAN
METHOD:PUBLISH
X-WR-CALNAME:VILA - Blog
X-ORIGINAL-URL:https://blog.livrariadavila.com.br
X-WR-CALDESC:Events for VILA - Blog
BEGIN:VEVENT
DTSTART;TZID=America/Sao_Paulo:20230716T150000
DTEND;TZID=America/Sao_Paulo:20230716T160000
DTSTAMP:20260421T062009
CREATED:20230705T204048Z
LAST-MODIFIED:20230705T204048Z
UID:118319-1689519600-1689523200@blog.livrariadavila.com.br
SUMMARY:CONTAÇÃO DE HISTÓRIA + LANÇAMENTO O BRILHO DE BIA - COM ALEXANDRE PARENTE - ED. CIRANDA
DESCRIPTION: \n  \n
URL:https://blog.livrariadavila.com.br/event/contacao-de-historia-lancamento-o-brilho-de-bia-com-alexandre-parente-ed-ciranda/
LOCATION:SHIN CA 04\, BLOCO A\, Brasília\, Distrito federal\, 71503-504\, Brasil
CATEGORIES:FÉRIAS NA VILA
END:VEVENT
END:VCALENDAR