BEGIN:VCALENDAR
VERSION:2.0
PRODID:-//VILA - Blog - ECPv4.5.12.2//NONSGML v1.0//EN
CALSCALE:GREGORIAN
METHOD:PUBLISH
X-WR-CALNAME:VILA - Blog
X-ORIGINAL-URL:https://blog.livrariadavila.com.br
X-WR-CALDESC:Events for VILA - Blog
BEGIN:VEVENT
DTSTART;TZID=America/Sao_Paulo:20230722T150000
DTEND;TZID=America/Sao_Paulo:20230722T160000
DTSTAMP:20260420T154035
CREATED:20230706T140207Z
LAST-MODIFIED:20230706T140207Z
UID:118351-1690038000-1690041600@blog.livrariadavila.com.br
SUMMARY:CONTAÇÃO DE HISTÓRIA PADDINGTON - COM CHILICA - ED. HARPER COLLINS
DESCRIPTION: \n
URL:https://blog.livrariadavila.com.br/event/contacao-de-historia-paddington-com-chilica-ed-harper-collins/
LOCATION:Av. Moema\, 493\, São Paulo\, São Paulo\, 04077-022\, Brasil
GEO:-23.6060908;-46.6565273
X-APPLE-STRUCTURED-LOCATION;VALUE=URI;X-ADDRESS=Av. Moema 493 São Paulo São Paulo 04077-022 Brasil;X-APPLE-RADIUS=500;X-TITLE=Av. Moema\, 493:geo:-46.6565273,-23.6060908
CATEGORIES:FÉRIAS NA VILA
END:VEVENT
END:VCALENDAR