BEGIN:VCALENDAR
VERSION:2.0
PRODID:-//VILA - Blog - ECPv4.5.12.2//NONSGML v1.0//EN
CALSCALE:GREGORIAN
METHOD:PUBLISH
X-WR-CALNAME:VILA - Blog
X-ORIGINAL-URL:https://blog.livrariadavila.com.br
X-WR-CALDESC:Events for VILA - Blog
BEGIN:VEVENT
DTSTART;TZID=America/Sao_Paulo:20230709T150000
DTEND;TZID=America/Sao_Paulo:20230709T160000
DTSTAMP:20260423T120344
CREATED:20230705T155218Z
LAST-MODIFIED:20230705T155218Z
UID:118216-1688914800-1688918400@blog.livrariadavila.com.br
SUMMARY:CONTAÇÃO DE HISTÓRIA VAMOS EXPLORAR! ZOOLÓGICO - COM TIA RÔ - ED. HAPPY BOOKS
DESCRIPTION: \n
URL:https://blog.livrariadavila.com.br/event/contacao-de-historia-vamos-explorar-zoologico-com-tia-ro-ed-happy-books/
LOCATION:Av. Roque Petroni Júnior\, 1089\, São Paulo\, São Paulo\, 04833001\, Brasil
CATEGORIES:FÉRIAS NA VILA
END:VEVENT
END:VCALENDAR