BEGIN:VCALENDAR
VERSION:2.0
PRODID:-//VILA - Blog - ECPv4.5.12.2//NONSGML v1.0//EN
CALSCALE:GREGORIAN
METHOD:PUBLISH
X-WR-CALNAME:VILA - Blog
X-ORIGINAL-URL:https://blog.livrariadavila.com.br
X-WR-CALDESC:Events for VILA - Blog
BEGIN:VEVENT
DTSTART;TZID=America/Sao_Paulo:20181021T150000
DTEND;TZID=America/Sao_Paulo:20181021T160000
DTSTAMP:20260421T121527
CREATED:20181008T150513Z
LAST-MODIFIED:20181008T150513Z
UID:22879-1540134000-1540137600@blog.livrariadavila.com.br
SUMMARY:Contação de histórias – A casinha do Tatu
DESCRIPTION: \nA raposa\, orgulhosa de sua linda casa\, não aceita a vizinha de alguém tão pobre como o tatu. Mas\, ao pedir o auxílio do rei leão para solucionar o caso\, a raposa recebe uma lição e tanto! \nCom Elza Sallut \nApoio: Ed. Moderna \nEvento gratuito (auditório) \n  \n
URL:https://blog.livrariadavila.com.br/event/contacao-de-historias-a-casinha-do-tatu/
LOCATION:Rua Fradique Coutinho\, 915 - Pinheiros\, São Paulo\, São Paulo\, 05416-011\, Brasil
GEO:-23.5592934;-46.6892019
X-APPLE-STRUCTURED-LOCATION;VALUE=URI;X-ADDRESS=Rua Fradique Coutinho 915 - Pinheiros São Paulo São Paulo 05416-011 Brasil;X-APPLE-RADIUS=500;X-TITLE=Rua Fradique Coutinho\, 915 - Pinheiros:geo:-46.6892019,-23.5592934
CATEGORIES:ATIVIDADES INFANTIS
END:VEVENT
END:VCALENDAR