BEGIN:VCALENDAR
VERSION:2.0
PRODID:-//VILA - Blog - ECPv4.5.12.2//NONSGML v1.0//EN
CALSCALE:GREGORIAN
METHOD:PUBLISH
X-WR-CALNAME:VILA - Blog
X-ORIGINAL-URL:https://blog.livrariadavila.com.br
X-WR-CALDESC:Events for VILA - Blog
BEGIN:VEVENT
DTSTART;TZID=America/Sao_Paulo:20190428T160000
DTEND;TZID=America/Sao_Paulo:20190428T180000
DTSTAMP:20260421T054814
CREATED:20190327T160738Z
LAST-MODIFIED:20190327T160738Z
UID:95815-1556467200-1556474400@blog.livrariadavila.com.br
SUMMARY:Contação de histórias - A gigante caixinha de medos
DESCRIPTION: Logo após a contação de histórias com Daniela Grinberg\, teremos um bate-papo com os pais sobre como lidar com o medo das crianças \nDe Dani Grinberg \nEd. Cortez \n
URL:https://blog.livrariadavila.com.br/event/contacao-de-historias-a-gigante-caixinha-de-medos-2/
CATEGORIES:ATIVIDADES INFANTIS
END:VEVENT
END:VCALENDAR