BEGIN:VCALENDAR
VERSION:2.0
PRODID:-//VILA - Blog - ECPv4.5.12.2//NONSGML v1.0//EN
CALSCALE:GREGORIAN
METHOD:PUBLISH
X-WR-CALNAME:VILA - Blog
X-ORIGINAL-URL:https://blog.livrariadavila.com.br
X-WR-CALDESC:Events for VILA - Blog
BEGIN:VEVENT
DTSTART;TZID=America/Sao_Paulo:20190331T160000
DTEND;TZID=America/Sao_Paulo:20190331T180000
DTSTAMP:20260420T102036
CREATED:20190220T205112Z
LAST-MODIFIED:20190220T205112Z
UID:93521-1554048000-1554055200@blog.livrariadavila.com.br
SUMMARY:Contação de histórias - A gigante caixinha de medos
DESCRIPTION: Logo após a contação de histórias com Daniela Grinberg\, teremos um bate-papo com os pais sobre como lidar com o medo das crianças \nDe Dani Grinberg \nEd. Cortez \n
URL:https://blog.livrariadavila.com.br/event/contacao-de-historias-a-gigante-caixinha-de-medos/
LOCATION:Rua Fradique Coutinho\, 915 - Pinheiros\, São Paulo\, São Paulo\, 05416-011\, Brasil
GEO:-23.5592934;-46.6892019
X-APPLE-STRUCTURED-LOCATION;VALUE=URI;X-ADDRESS=Rua Fradique Coutinho 915 - Pinheiros São Paulo São Paulo 05416-011 Brasil;X-APPLE-RADIUS=500;X-TITLE=Rua Fradique Coutinho\, 915 - Pinheiros:geo:-46.6892019,-23.5592934
CATEGORIES:ATIVIDADES INFANTIS,BATE-PAPO
END:VEVENT
END:VCALENDAR